BEGIN:VCALENDAR
VERSION:2.0
PRODID:-//EOI Granada - ECPv6.15.20//NONSGML v1.0//EN
CALSCALE:GREGORIAN
METHOD:PUBLISH
X-ORIGINAL-URL:https://eoidegranada.org
X-WR-CALDESC:Eventos para EOI Granada
REFRESH-INTERVAL;VALUE=DURATION:PT1H
X-Robots-Tag:noindex
X-PUBLISHED-TTL:PT1H
BEGIN:VTIMEZONE
TZID:UTC
BEGIN:STANDARD
TZOFFSETFROM:+0000
TZOFFSETTO:+0000
TZNAME:UTC
DTSTART:20240101T000000
END:STANDARD
END:VTIMEZONE
BEGIN:VEVENT
DTSTART;TZID=UTC:20250701T080000
DTEND;TZID=UTC:20250710T170000
DTSTAMP:20260422T070257
CREATED:20250630T072023Z
LAST-MODIFIED:20250630T072257Z
UID:36242-1751356800-1752166800@eoidegranada.org
SUMMARY:Matrícula Julio 2025/2026
DESCRIPTION:Plazo del 1 al 10 de julio \n+ información
URL:https://eoidegranada.org/event/matricula-julio-2025-2026/
CATEGORIES:Secretaría
END:VEVENT
BEGIN:VEVENT
DTSTART;TZID=UTC:20250714T080000
DTEND;TZID=UTC:20250714T170000
DTSTAMP:20260422T070257
CREATED:20250714T181213Z
LAST-MODIFIED:20250714T181213Z
UID:36335-1752480000-1752512400@eoidegranada.org
SUMMARY:Calendario PEC | Septiembre 2025
DESCRIPTION:
URL:https://eoidegranada.org/event/calendario-pec-septiembre-2025/
CATEGORIES:Secretaría
END:VEVENT
BEGIN:VEVENT
DTSTART;TZID=UTC:20250730T080000
DTEND;TZID=UTC:20250830T170000
DTSTAMP:20260422T070257
CREATED:20250723T095424Z
LAST-MODIFIED:20250723T190212Z
UID:36359-1753862400-1756573200@eoidegranada.org
SUMMARY:VACACIONES DE VERANO
DESCRIPTION:La EOI de Granada permanecerá cerrada por vacaciones desde el 30 de julio al 31 de agosto.
URL:https://eoidegranada.org/event/vacaciones-de-verano/
CATEGORIES:Escuela
END:VEVENT
BEGIN:VEVENT
DTSTART;TZID=UTC:20250901T080000
DTEND;TZID=UTC:20250917T170000
DTSTAMP:20260422T070257
CREATED:20250730T082449Z
LAST-MODIFIED:20250730T082458Z
UID:36382-1756713600-1758128400@eoidegranada.org
SUMMARY:Matrícula septiembre 2025/26
DESCRIPTION:Plazo de matriculación 1 al 17 de septiembre. \nMás información  AQUÍ
URL:https://eoidegranada.org/event/matricula-septiembre-2025-26/
CATEGORIES:Secretaría
END:VEVENT
BEGIN:VEVENT
DTSTART;TZID=UTC:20250911T180000
DTEND;TZID=UTC:20250912T120000
DTSTAMP:20260422T070257
CREATED:20250911T165956Z
LAST-MODIFIED:20250911T165956Z
UID:36443-1757613600-1757678400@eoidegranada.org
SUMMARY:Calendario de solicitud de revisión de exámenes septiembre 2025
DESCRIPTION:En el siguiente enlace se podrá solicitar la revisión de exámenes de certificación y promoción: CALENDARIO
URL:https://eoidegranada.org/event/calendario-de-solicitud-de-revision-de-examenes-septiembre-2025/
END:VEVENT
BEGIN:VEVENT
DTSTART;TZID=UTC:20250915T080000
DTEND;TZID=UTC:20250915T170000
DTSTAMP:20260422T070257
CREATED:20250915T102709Z
LAST-MODIFIED:20250918T164748Z
UID:36483-1757923200-1757955600@eoidegranada.org
SUMMARY:HORARIOS ALUMNADO CURSO 2025/2026: ELECCIÓN DE GRUPO Y HORARIO
DESCRIPTION:Puedes solicitarlos AQUÍ
URL:https://eoidegranada.org/event/horarios-alumnado-curso-2025-2026-eleccion-de-grupo-y-horario/
CATEGORIES:Escuela,Secretaría
END:VEVENT
BEGIN:VEVENT
DTSTART;TZID=UTC:20250915T080000
DTEND;TZID=UTC:20250926T170000
DTSTAMP:20260422T070257
CREATED:20250915T101821Z
LAST-MODIFIED:20250915T101958Z
UID:36481-1757923200-1758906000@eoidegranada.org
SUMMARY:COMIENZO DE CLASES 2025-2026
DESCRIPTION:Lunes 22 de septiembre para los grupos de lunes y miércoles.\nMartes 23 de septiembre para los grupos de martes y jueves.\nViernes 26 de septiembre para los grupos de viernes.\nLos cursos de la modalidad semipresencial comienzan el día de la semana que tienen clase a partir del lunes 22 de septiembre.
URL:https://eoidegranada.org/event/comienzo-de-clases-2025-2026/
CATEGORIES:Escuela,Secretaría
END:VEVENT
BEGIN:VEVENT
DTSTART;TZID=UTC:20251011T080000
DTEND;TZID=UTC:20251013T170000
DTSTAMP:20260422T070257
CREATED:20251010T061711Z
LAST-MODIFIED:20251010T061751Z
UID:36601-1760169600-1760374800@eoidegranada.org
SUMMARY:CIERRE DE LA ESCUELA POR EL DÍA DE LA HISPANIDAD
DESCRIPTION:La Escuela Oficial de Idiomas de Granada permanecerá cerrada el lunes 13 de octubre por el Día de la Hispanidad.
URL:https://eoidegranada.org/event/cierre-de-la-escuela-por-el-dia-de-la-hispanidad/
CATEGORIES:Escuela
END:VEVENT
BEGIN:VEVENT
DTSTART;TZID=UTC:20251030T080000
DTEND;TZID=UTC:20251103T170000
DTSTAMP:20260422T070257
CREATED:20251030T095456Z
LAST-MODIFIED:20251030T095456Z
UID:36657-1761811200-1762189200@eoidegranada.org
SUMMARY:CIERRE DE LA ESCUELA EL 3 DE NOVIEMBRE DE 2025
DESCRIPTION:La Escuela Oficial de Idiomas permanecerá cerrada el lunes 3 de noviembre por ser día no lectivo provincial.
URL:https://eoidegranada.org/event/cierre-de-la-escuela-el-3-de-noviembre-de-2025/
CATEGORIES:Escuela
END:VEVENT
BEGIN:VEVENT
DTSTART;TZID=UTC:20251031T080000
DTEND;TZID=UTC:20251031T170000
DTSTAMP:20260422T070257
CREATED:20251031T160342Z
LAST-MODIFIED:20251031T161109Z
UID:36666-1761897600-1761930000@eoidegranada.org
SUMMARY:SOLICITUD DE CAMBIO EXTRAORDINARIO DE GRUPO/MODALIDAD PLAZO DE SOLICITUD:
DESCRIPTION:CAMBIO DE GRUPO: DEL 1 DE NOVIEMBRE AL 30 DE MARZO\nCAMBIO DE MODALIDAD: DEL 1 DE NOVIEMBRE AL 30 DE ENERO\n\n\n\nENLACE AL FORMULARIO
URL:https://eoidegranada.org/event/solicitud-de-cambio-extraordinario-de-grupo-modalidad-plazo-de-solicitud/
CATEGORIES:Secretaría
END:VEVENT
BEGIN:VEVENT
DTSTART;TZID=UTC:20251222T080000
DTEND;TZID=UTC:20260106T170000
DTSTAMP:20260422T070257
CREATED:20251217T112546Z
LAST-MODIFIED:20251217T112547Z
UID:36961-1766390400-1767718800@eoidegranada.org
SUMMARY:Cierre del centro por vacaciones de Navidad
DESCRIPTION:La Escuela Oficial de Idiomas de Granada permanecerá cerrada por vacaciones desde el 22 de diciembre hasta el 6 de enero.
URL:https://eoidegranada.org/event/cierre-del-centro-por-vacaciones-de-navidad-2/
CATEGORIES:Escuela
END:VEVENT
BEGIN:VEVENT
DTSTART;TZID=UTC:20260127T080000
DTEND;TZID=UTC:20260129T170000
DTSTAMP:20260422T070257
CREATED:20260127T101007Z
LAST-MODIFIED:20260127T101214Z
UID:37085-1769500800-1769706000@eoidegranada.org
SUMMARY:ADMISIÓN CURSO 2025-26 (2º CUATRIMESTRE): LISTADO DE SOLICITUDES BAREMADAS
DESCRIPTION:Con fecha de 26/01/2026\, se ha publicado en el tablón de anuncios de la Escuela Oficial de Idiomas de Granada la siguiente información referente al proceso de admisión para el segundo cuatrimestre del curso 2025-2026\, concretamente sobre las enseñanzas de “2º N. Básico de Español como lengua extranjera” y “Alemán: Principiantes absolutos”:\n* Listado de solicitudes baremadas.\nPara consulta personalizada: VER AQUÍ\nPlazo de alegaciones: Del 27 al 29 de enero\, ambos inclusive. \nIMPORTANTE:\nSolicitud estimada significa que ha sido presentada en plazo y forma.\nSolicitud desestimada significa que está excluida por los motivos que se indiquen.\nLos listados definitivos de solicitantes admitidos (que han obtenido plaza)\, no admitidos y desestimados se publicarán el día 30 de enero a lo largo de la tarde.
URL:https://eoidegranada.org/event/admision-curso-2025-26-2o-cuatrimestre-listado-de-solicitudes-baremadas/
CATEGORIES:Secretaría
END:VEVENT
BEGIN:VEVENT
DTSTART;TZID=UTC:20260130T080000
DTEND;TZID=UTC:20260206T170000
DTSTAMP:20260422T070257
CREATED:20260130T130026Z
LAST-MODIFIED:20260130T130026Z
UID:37133-1769760000-1770397200@eoidegranada.org
SUMMARY:MATRÍCULA: 2º N. BÁSICO ESPAÑOL Y ALEMÁN: PRINCIPIANTES ABSOLUTOS
DESCRIPTION:Los/las solicitantes que han obtenido plaza en el proceso de admisión han de formalizar su matrícula del 2 al 6 de febrero de 2026.\n– Matrícula 2º N. Básico Español como lengua extranjera: MÁS INFO\n– Matrícula Alemán: Principiantes absolutos: MÁS INFO
URL:https://eoidegranada.org/event/matricula-2o-n-basico-espanol-y-aleman-principiantes-absolutos-2/
CATEGORIES:Secretaría
END:VEVENT
BEGIN:VEVENT
DTSTART;TZID=UTC:20260130T080000
DTEND;TZID=UTC:20260206T170000
DTSTAMP:20260422T070257
CREATED:20260130T130724Z
LAST-MODIFIED:20260130T130724Z
UID:37139-1769760000-1770397200@eoidegranada.org
SUMMARY:ADMISIÓN CURSO 2025-26 (2º CUATRIMESTRE): LISTADOS DEFINITIVOS DE ADMITIDOS\, NO ADMITIDOS Y DESESTIMADOS
DESCRIPTION:Con fecha de 30/01/2026 se ha publicado en el tablón de anuncios de la Escuela Oficial de Idiomas de Granada la siguiente información referente al proceso de admisión para el segundo cuatrimestre del curso 2025-2026\, concretamente sobre las enseñanzas de “2º N. Básico de Español como lengua extranjera” y “Alemán: Principiantes absolutos”: \n* Listados definitivos de alumnado admitido\, no admitido y/o desestimado \nPara consulta personalizada: VER AQUÍ \nPlazo de matrícula: Del 2 al 6 de febrero\, ambos inclusive.
URL:https://eoidegranada.org/event/admision-curso-2025-26-2o-cuatrimestre-listados-definitivos-de-admitidos-no-admitidos-y-desestimados/
CATEGORIES:Secretaría
END:VEVENT
BEGIN:VEVENT
DTSTART;TZID=UTC:20260301T080000
DTEND;TZID=UTC:20260315T170000
DTSTAMP:20260422T070257
CREATED:20260226T192007Z
LAST-MODIFIED:20260226T192506Z
UID:37214-1772352000-1773594000@eoidegranada.org
SUMMARY:SIMULTANEIDAD DE MATRÍCULA OFICIAL Y LIBRE
DESCRIPTION:Del 1 al 15 de marzo es la simultaneidad de matrícula oficial y libre. \nPuedes informarte sobre el trámite AQUÍ.
URL:https://eoidegranada.org/event/simultaneidad-de-matricula-oficial-y-libre-3/
CATEGORIES:Secretaría
END:VEVENT
BEGIN:VEVENT
DTSTART;TZID=UTC:20260302T080000
DTEND;TZID=UTC:20260302T213000
DTSTAMP:20260422T070257
CREATED:20260226T131108Z
LAST-MODIFIED:20260226T131108Z
UID:37209-1772438400-1772487000@eoidegranada.org
SUMMARY:CIERRE DE LA ESCUELA POR EL DÍA DE LA COMUNIDAD EDUCATIVA
DESCRIPTION:La Escuela Oficial de Idiomas de Granada permanecerá cerrada el 2 de marzo por ser el Día de la Comunidad Educativa.
URL:https://eoidegranada.org/event/cierre-de-la-escuela-por-el-dia-de-la-comunidad-educativa/
CATEGORIES:Escuela
END:VEVENT
BEGIN:VEVENT
DTSTART;TZID=UTC:20260318T080000
DTEND;TZID=UTC:20260401T170000
DTSTAMP:20260422T070257
CREATED:20260318T192655Z
LAST-MODIFIED:20260319T091051Z
UID:37308-1773820800-1775062800@eoidegranada.org
SUMMARY:PUBLICACIÓN DE LA RELACIÓN PROVISIONAL DE SOLICITUDES DE SIMULTANEIDAD AUTORIZADAS Y NO AUTORIZADAS EN EL CURSO 2025/2026
DESCRIPTION:Se informa de la publicación en el tablón de anuncios de la Escuela Oficial de Idiomas de Granada de la relación de solicitudes de simultaneidad autorizadas y no autorizadas en el curso 2025/2026.\nPlazo para alegaciones y subsanación de errores: Del 19 de marzo al 1 de abril\, ambos inclusive.
URL:https://eoidegranada.org/event/publicacion-de-la-relacion-provisional-de-solicitudes-de-simultaneidad-autorizadas-y-no-autorizadas-en-el-curso-2027-2026/
CATEGORIES:Secretaría
END:VEVENT
BEGIN:VEVENT
DTSTART;TZID=UTC:20260326T080000
DTEND;TZID=UTC:20260326T170000
DTSTAMP:20260422T070257
CREATED:20260326T172455Z
LAST-MODIFIED:20260326T172507Z
UID:37365-1774512000-1774544400@eoidegranada.org
SUMMARY:PRUEBAS DE CERTIFICACIÓN 2026: Calendario de pruebas escritas
DESCRIPTION:Más informacion AQUÍ
URL:https://eoidegranada.org/event/pruebas-de-certificacion-2026-calendario-de-pruebas-escritas/
CATEGORIES:Secretaría
END:VEVENT
BEGIN:VEVENT
DTSTART;TZID=UTC:20260330T080000
DTEND;TZID=UTC:20260405T170000
DTSTAMP:20260422T070257
CREATED:20260326T172036Z
LAST-MODIFIED:20260326T172047Z
UID:37359-1774857600-1775408400@eoidegranada.org
SUMMARY:VACACIONES POR SEMANA SANTA
DESCRIPTION:La escuela permanecerá cerrada por vacaciones del 30 de marzo al 5 de abril.
URL:https://eoidegranada.org/event/vacaciones-por-semana-santa/
CATEGORIES:Escuela
END:VEVENT
BEGIN:VEVENT
DTSTART;TZID=UTC:20260401T080000
DTEND;TZID=UTC:20260415T170000
DTSTAMP:20260422T070257
CREATED:20260326T180015Z
LAST-MODIFIED:20260326T180015Z
UID:37378-1775030400-1776272400@eoidegranada.org
SUMMARY:MATRÍCULA LIBRE: INFORMACIÓN Y PLAZO DE MATRICULACIÓN
DESCRIPTION:Matrícula libre 2026\nSe informa que desde el 1 hasta el 15 de abril estará abierto el plazo de matrícula en régimen libre.\nMás información AQUÍ
URL:https://eoidegranada.org/event/matricula-libre-informacion-y-plazo-de-matriculacion-2/
END:VEVENT
BEGIN:VEVENT
DTSTART;TZID=UTC:20260401T080000
DTEND;TZID=UTC:20260416T170000
DTSTAMP:20260422T070257
CREATED:20260326T181535Z
LAST-MODIFIED:20260326T183115Z
UID:37388-1775030400-1776358800@eoidegranada.org
SUMMARY:INSCRIPCIÓN EN LAS PRUEBAS DE CERTIFICACIÓN (PEC) 2026: ALUMNADO EN RÉGIMEN OFICIAL
DESCRIPTION:Inscripción en las Pruebas Específicas de Certificación (PEC) para el alumnado matriculado en régimen de enseñanza oficial: Del 1 al 16 de abril\nEl alumnado de nuestro centro (o su madre/padre/tutor o tutora legal en caso de menores de edad) y el alumnado de la modalidad a distancia matriculado en un curso conducente a certificación (N. Intermedio B1\, 2º N. Intermedio B2\, 2º N. Avanzado C1 o N. Avanzado C2)\, si desea realizar las pruebas de certificación\, tendrá que confirmar su inscripción del nivel e idioma en el que se encuentra matriculado\, eligiendo una de las opciones posibles: \n1. A través de la Secretaría virtual:\n•  Instrucciones\n•  Clave iANDE \n2. Entregando el anexo III (el alumnado presencial\, CAL y semipresencial) o el documento de inscripción para el alumnado a distancia (anexo III Bis) debidamente cumplimentado y firmado:\n•  En la secretaría de la Escuela Oficial de Idiomas de Granada (con registro de entrada) en horario de 11:00 a 13:30. No es obligatorio entregar la solicitud personalmente\, puede hacerlo otra persona en su nombre sin necesidad de autorización.\n•  A través de cualquier registro de la Administración Pública.\n•  A través de correo postal presentando la solicitud en una oficina de Correos en sobre abierto para que la solicitud pueda ser fechada y sellada por el personal de la misma. De no ser así\, no podrá considerarse como presentada en esa fecha. \nEl periodo de confirmación estará comprendido entre los días 1 al 16 de abril\, ambos inclusive.
URL:https://eoidegranada.org/event/inscripcion-en-las-pruebas-de-certificacion-pec-2026-alumnado-en-regimen-oficial/
END:VEVENT
BEGIN:VEVENT
DTSTART;TZID=UTC:20260406T080000
DTEND;TZID=UTC:20260420T170000
DTSTAMP:20260422T070257
CREATED:20260406T181107Z
LAST-MODIFIED:20260406T181330Z
UID:37418-1775462400-1776704400@eoidegranada.org
SUMMARY:PUBLICACIÓN DE LA RELACIÓN DEFINITIVA DE SOLICITUDES DE SIMULTANEIDAD AUTORIZADAS Y NO AUTORIZADAS EN EL CURSO 2025/2026
DESCRIPTION:Se informa de la publicación en el tablón de anuncios de la Escuela Oficial de Idiomas de Granada de la relación definitiva de solicitudes de simultaneidad autorizadas y no autorizadas en el curso 2025/2026.
URL:https://eoidegranada.org/event/publicacion-de-la-relacion-definitiva-de-solicitudes-de-simultaneidad-autorizadas-y-no-autorizadas-en-el-curso-2025-2026/
CATEGORIES:Secretaría
END:VEVENT
BEGIN:VEVENT
DTSTART;TZID=UTC:20260407T080000
DTEND;TZID=UTC:20260518T150000
DTSTAMP:20260422T070257
CREATED:20260415T190504Z
LAST-MODIFIED:20260415T190812Z
UID:37426-1775548800-1779116400@eoidegranada.org
SUMMARY:Convocatoria Becas curso 2026-2027
DESCRIPTION:Publicada la convocatoria de becas generales para cursos postobligatorios para el curso 2026-2027. \nEl plazo de presentación de solicitudes está abierto desde el 7 de abril a partir de las 08:00 horas hasta el 18 de mayo de 2026 a las 15:00 horas. \nLa solicitud se deberá cumplimentar mediante el formulario accesible por vía telemática a través de la sede electrónica del Ministerio de Educación\, Formación Profesional y Deportes AQUÍ. \nImportante: Las solicitudes de beca deberán presentarse\, en todo caso\, en los plazos indicados aunque dichos plazos no coincidan con el plazo de matrícula correspondiente.
URL:https://eoidegranada.org/event/convocatoria-becas-curso-2026-2027/
CATEGORIES:Secretaría
END:VEVENT
END:VCALENDAR