BEGIN:VCALENDAR
VERSION:2.0
PRODID:-//EOI Granada - ECPv6.15.20//NONSGML v1.0//EN
CALSCALE:GREGORIAN
METHOD:PUBLISH
X-WR-CALNAME:EOI Granada
X-ORIGINAL-URL:https://eoidegranada.org
X-WR-CALDESC:Eventos para EOI Granada
REFRESH-INTERVAL;VALUE=DURATION:PT1H
X-Robots-Tag:noindex
X-PUBLISHED-TTL:PT1H
BEGIN:VTIMEZONE
TZID:UTC
BEGIN:STANDARD
TZOFFSETFROM:+0000
TZOFFSETTO:+0000
TZNAME:UTC
DTSTART:20230101T000000
END:STANDARD
END:VTIMEZONE
BEGIN:VEVENT
DTSTART;TZID=UTC:20240319T090000
DTEND;TZID=UTC:20240510T150000
DTSTAMP:20260424T120214
CREATED:20240412T144126Z
LAST-MODIFIED:20240412T160815Z
UID:33096-1710838800-1715353200@eoidegranada.org
SUMMARY:Convocatoria Becas curso 2024-2025
DESCRIPTION:Publicada la convocatoria de becas generales para cursos postobligatorios para el curso 2024-2025. \nEl plazo de presentación de solicitudes está abierto desde el 19 de marzo a partir de las 09:00 horas al 10 de mayo de 2024 hasta las 15:00 horas. \nLa solicitud se deberá cumplimentar mediante el formulario accesible por vía telemática a través de la sede electrónica del Ministerio de Educación\, Formación Profesional y Deportes en la dirección sede.educacion.gob.es o en educacionyfp.gob.es \nImportante: Las solicitudes de beca deberán presentarse\, en todo caso\, en los plazos indicados aunque dichos plazos no coincidan con el plazo de matrícula correspondiente.
URL:https://eoidegranada.org/event/convocatoria-becas-curso-2024-2025/
CATEGORIES:Secretaría
END:VEVENT
END:VCALENDAR