BEGIN:VCALENDAR
VERSION:2.0
PRODID:-//EOI Granada - ECPv6.15.20//NONSGML v1.0//EN
CALSCALE:GREGORIAN
METHOD:PUBLISH
X-WR-CALNAME:EOI Granada
X-ORIGINAL-URL:https://eoidegranada.org
X-WR-CALDESC:Eventos para EOI Granada
REFRESH-INTERVAL;VALUE=DURATION:PT1H
X-Robots-Tag:noindex
X-PUBLISHED-TTL:PT1H
BEGIN:VTIMEZONE
TZID:UTC
BEGIN:STANDARD
TZOFFSETFROM:+0000
TZOFFSETTO:+0000
TZNAME:UTC
DTSTART:20220101T000000
END:STANDARD
END:VTIMEZONE
BEGIN:VEVENT
DTSTART;TZID=UTC:20231106T080000
DTEND;TZID=UTC:20231130T161000
DTSTAMP:20260424T193427
CREATED:20231120T161002Z
LAST-MODIFIED:20231120T161115Z
UID:31647-1699257600-1701360600@eoidegranada.org
SUMMARY:CIERRE TEMPORAL DE LA SECRETARÍA DE LA ESCUELA POR AUSENCIA DE PERSONAL
DESCRIPTION:Solo se atenderá en el correo electrónico info@eoidegranada.org hasta incorporación del personal administrativo. \nDisculpen las molestias.
URL:https://eoidegranada.org/event/cierre-temporal-de-la-secretaria-de-la-escuela-por-ausencia-de-personal/
CATEGORIES:Secretaría
END:VEVENT
END:VCALENDAR