BEGIN:VCALENDAR
VERSION:2.0
PRODID:-//EOI Granada - ECPv6.15.20//NONSGML v1.0//EN
CALSCALE:GREGORIAN
METHOD:PUBLISH
X-ORIGINAL-URL:https://eoidegranada.org
X-WR-CALDESC:Eventos para EOI Granada
REFRESH-INTERVAL;VALUE=DURATION:PT1H
X-Robots-Tag:noindex
X-PUBLISHED-TTL:PT1H
BEGIN:VTIMEZONE
TZID:UTC
BEGIN:STANDARD
TZOFFSETFROM:+0000
TZOFFSETTO:+0000
TZNAME:UTC
DTSTART:20240101T000000
END:STANDARD
END:VTIMEZONE
BEGIN:VEVENT
DTSTART;TZID=UTC:20251222T080000
DTEND;TZID=UTC:20260106T170000
DTSTAMP:20260424T232322
CREATED:20251217T112546Z
LAST-MODIFIED:20251217T112547Z
UID:36961-1766390400-1767718800@eoidegranada.org
SUMMARY:Cierre del centro por vacaciones de Navidad
DESCRIPTION:La Escuela Oficial de Idiomas de Granada permanecerá cerrada por vacaciones desde el 22 de diciembre hasta el 6 de enero.
URL:https://eoidegranada.org/event/cierre-del-centro-por-vacaciones-de-navidad-2/
CATEGORIES:Escuela
END:VEVENT
END:VCALENDAR