BEGIN:VCALENDAR
VERSION:2.0
PRODID:-//EOI Granada - ECPv6.15.20//NONSGML v1.0//EN
CALSCALE:GREGORIAN
METHOD:PUBLISH
X-WR-CALNAME:EOI Granada
X-ORIGINAL-URL:https://eoidegranada.org
X-WR-CALDESC:Eventos para EOI Granada
REFRESH-INTERVAL;VALUE=DURATION:PT1H
X-Robots-Tag:noindex
X-PUBLISHED-TTL:PT1H
BEGIN:VTIMEZONE
TZID:UTC
BEGIN:STANDARD
TZOFFSETFROM:+0000
TZOFFSETTO:+0000
TZNAME:UTC
DTSTART:20240101T000000
END:STANDARD
END:VTIMEZONE
BEGIN:VEVENT
DTSTART;TZID=UTC:20250501T080000
DTEND;TZID=UTC:20250504T210000
DTSTAMP:20260425T120449
CREATED:20250429T084732Z
LAST-MODIFIED:20250429T084732Z
UID:35794-1746086400-1746392400@eoidegranada.org
SUMMARY:CIERRE DE LA ESCUELA OFICIAL DE IDIOMAS POR EL PUENTE DEL DÍA DEL TRABAJO
DESCRIPTION:La Escuela Oficial de Idiomas de Granada permanecerá cerrada desde el 1 hasta el 4 de mayo por el puente de Día del Trabajo.
URL:https://eoidegranada.org/event/cierre-de-la-escuela-oficial-de-idiomas-por-el-puente-del-dia-del-trabajo/
CATEGORIES:Escuela
END:VEVENT
END:VCALENDAR