BEGIN:VCALENDAR
VERSION:2.0
PRODID:-//EOI Granada - ECPv6.15.20//NONSGML v1.0//EN
CALSCALE:GREGORIAN
METHOD:PUBLISH
X-ORIGINAL-URL:https://eoidegranada.org
X-WR-CALDESC:Eventos para EOI Granada
REFRESH-INTERVAL;VALUE=DURATION:PT1H
X-Robots-Tag:noindex
X-PUBLISHED-TTL:PT1H
BEGIN:VTIMEZONE
TZID:UTC
BEGIN:STANDARD
TZOFFSETFROM:+0000
TZOFFSETTO:+0000
TZNAME:UTC
DTSTART:20240101T000000
END:STANDARD
END:VTIMEZONE
BEGIN:VEVENT
DTSTART;TZID=UTC:20250414T080000
DTEND;TZID=UTC:20250420T170000
DTSTAMP:20260425T133255
CREATED:20250411T111322Z
LAST-MODIFIED:20250411T111322Z
UID:35725-1744617600-1745168400@eoidegranada.org
SUMMARY:VACACIONES POR SEMANA SANTA 2025
DESCRIPTION:La administración de la Escuela estará abierta el lunes 14 y martes 15 de abril de 11:00 a 13:30 horas. Del 16 al 20 de abril la EOI de Granada permanecerá cerrada por vacaciones.
URL:https://eoidegranada.org/event/vacaciones-por-semana-santa-2025/
CATEGORIES:Escuela
END:VEVENT
END:VCALENDAR